BEGIN:VCALENDAR
VERSION:2.0
PRODID:-//Čili festival Šmarje pri Jelšah - ECPv6.10.0//NONSGML v1.0//EN
CALSCALE:GREGORIAN
METHOD:PUBLISH
X-WR-CALNAME:Čili festival Šmarje pri Jelšah
X-ORIGINAL-URL:https://ljubiteljicilija.si
X-WR-CALDESC:Dogodki za Čili festival Šmarje pri Jelšah
REFRESH-INTERVAL;VALUE=DURATION:PT1H
X-Robots-Tag:noindex
X-PUBLISHED-TTL:PT1H
BEGIN:VTIMEZONE
TZID:UTC
BEGIN:STANDARD
TZOFFSETFROM:+0000
TZOFFSETTO:+0000
TZNAME:UTC
DTSTART:20260101T000000
END:STANDARD
END:VTIMEZONE
BEGIN:VEVENT
DTSTART;TZID=UTC:20260905T090000
DTEND;TZID=UTC:20260905T200000
DTSTAMP:20260422T125541
CREATED:20220328T110939Z
LAST-MODIFIED:20260330T134322Z
UID:1034-1788598800-1788638400@ljubiteljicilija.si
SUMMARY:7. PRAVI ČILI FESTIVAL
DESCRIPTION:Welcome to the 7th True Chili Festival! After a few years’ break\, we are returning to Šmarje pri Jelšah\, where we will once again celebrate our love for spicy cuisine\, socializing\, and unforgettable experiences. Mark your calendars: September 5\, 2026! The event program will be hosted by stand-up comedian Aleš Novak. And between 6 PM and 8 PM\, the one and only Bučko Band will take the stage to spice things up with their live music performance! 								\n				\n					\n		\n				\n			\n						\n				\n																														\n				\n					\n		\n					\n		\n				\n						\n					\n			\n						\n				\n									📅 September 5\, 2026 📍 Šmarje pri Jelšah 🔥 Free Entry! 								\n				\n					\n		\n					\n		\n				\n						\n					\n			\n						\n				\n									EVENT PROGRAM9:30 – Hudičev kotel Competition13:00 – Lunch Chili con Šmarje\, announcement of winners and official opening of the festival13:00–17:00 – Children’s program with special animations and surprises17:00 – Golden Habanero Competition with League of Fire18:30 – Concert by Buchko BandWhat can you expect? A wide selection of chili products and culinary delightsThe Golden Habanero Contest – who can handle the most heat?The “Devil’s Cauldron” cooking competition – who will make the best chili con carne?An entertaining program with stand-up comedy and live musicAn exhibition of children’s artwork on the theme of chiliLectures and workshops with local and international expertsA children’s corner with fun activities and animations								\n				\n					\n		\n					\n		\n				\n						\n					\n			\n						\n				\n									Whether you’re a dedicated chili lover or just curious to explore new flavors\, the 7th True Chili Festival is an event you don’t want to miss! Get ready for an unforgettable experience and a true explosion of flavors! 								\n				\n					\n		\n					\n		\n				\n						\n					\n			\n						\n						\n					\n			\n						\n				\n																														\n				\n					\n		\n				\n			\n						\n				\n					Gregor Krajnc in Matic Vizjak				\n				\n				\n				\n					Event Organizers				\n				\n				\n				\n					With great excitement\, I invite you to the 6th True Chili Festival\, which will once again set Šmarje pri Jelšah ablaze after a few years' break! This festival is a perfect opportunity for everyone who enjoys spicy challenges\, culinary adventures\, and great company.\n\nWe have prepared an exciting program that will satisfy both those new to chili and those who already love this fiery passion. Join us and experience an event full of flavor\, fun\, and fire!
URL:https://ljubiteljicilija.si/event/6-pravi-cili-festival/
CATEGORIES:Čili festival
ATTACH;FMTTYPE=image/jpeg:https://ljubiteljicilija.si/wp-content/uploads/2025/02/Foto-241.jpg
END:VEVENT
BEGIN:VEVENT
DTSTART;TZID=UTC:20260905T090000
DTEND;TZID=UTC:20260905T200000
DTSTAMP:20260422T125541
CREATED:20250212T221838Z
LAST-MODIFIED:20260330T134311Z
UID:4575-1788598800-1788638400@ljubiteljicilija.si
SUMMARY:7TH TRUE CHILI FESTIVAL
DESCRIPTION:Welcome to the 7th True Chili Festival! After a few years’ break\, we are returning to Šmarje pri Jelšah\, where we will once again celebrate our love for spicy cuisine\, socializing\, and unforgettable experiences. Mark your calendars: September 5\, 2026! The event program will be hosted by stand-up comedian Aleš Novak. And between 6 PM and 8 PM\, the one and only Bučko Band will take the stage to spice things up with their live music performance! 								\n				\n					\n		\n				\n			\n						\n				\n																														\n				\n					\n		\n					\n		\n				\n						\n					\n			\n						\n				\n									📅 September 5\, 2026 📍 Šmarje pri Jelšah 🔥 Free Entry! 								\n				\n					\n		\n					\n		\n				\n						\n					\n			\n						\n				\n									EVENT PROGRAM9:30 – Hudičev kotel Competition13:00 – Lunch Chili con Šmarje\, announcement of winners and official opening of the festival13:00–17:00 – Children’s program with special animations and surprises17:00 – Golden Habanero Competition with League of Fire18:30 – Concert by Buchko BandWhat can you expect? A wide selection of chili products and culinary delightsThe Golden Habanero Contest – who can handle the most heat?The “Devil’s Cauldron” cooking competition – who will make the best chili con carne?An entertaining program with stand-up comedy and live musicAn exhibition of children’s artwork on the theme of chiliLectures and workshops with local and international expertsA children’s corner with fun activities and animations								\n				\n					\n		\n					\n		\n				\n						\n					\n			\n						\n				\n									Whether you’re a dedicated chili lover or just curious to explore new flavors\, the 7th True Chili Festival is an event you don’t want to miss! Get ready for an unforgettable experience and a true explosion of flavors! 								\n				\n					\n		\n					\n		\n				\n						\n					\n			\n						\n						\n					\n			\n						\n				\n																														\n				\n					\n		\n				\n			\n						\n				\n					Gregor Krajnc in Matic Vizjak				\n				\n				\n				\n					Event Organizers				\n				\n				\n				\n					With great excitement\, I invite you to the 6th True Chili Festival\, which will once again set Šmarje pri Jelšah ablaze after a few years' break! This festival is a perfect opportunity for everyone who enjoys spicy challenges\, culinary adventures\, and great company.\n\nWe have prepared an exciting program that will satisfy both those new to chili and those who already love this fiery passion. Join us and experience an event full of flavor\, fun\, and fire!
URL:https://ljubiteljicilija.si/event/6th-true-chili-festival/
CATEGORIES:English
ATTACH;FMTTYPE=image/jpeg:https://ljubiteljicilija.si/wp-content/uploads/2025/02/Foto-241.jpg
END:VEVENT
END:VCALENDAR